BEGIN:VCALENDAR
VERSION:2.0
PRODID:-//Broadway Inn - ECPv6.15.20//NONSGML v1.0//EN
CALSCALE:GREGORIAN
METHOD:PUBLISH
X-ORIGINAL-URL:https://broadwayinnmissoula.com
X-WR-CALDESC:Events for Broadway Inn
REFRESH-INTERVAL;VALUE=DURATION:PT1H
X-Robots-Tag:noindex
X-PUBLISHED-TTL:PT1H
BEGIN:VTIMEZONE
TZID:MST
END:VTIMEZONE
BEGIN:VEVENT
DTSTART;TZID=MST:20250130T190000
DTEND;TZID=MST:20250130T190000
DTSTAMP:20260421T113746
CREATED:20241223T203439Z
LAST-MODIFIED:20241223T204616Z
UID:856-1738263600-1738263600@broadwayinnmissoula.com
SUMMARY:Men's College Basketball
DESCRIPTION:Don’t miss the Griz vs. Portland State at Dahlberg Arena. Make the most of your visit by staying at the Broadway Inn Hotel and Convention Center Hotel and Convention Center and Convention Center\, offering comfort and convenience just minutes from the game. Book now for the best rates!
URL:https://broadwayinnmissoula.com/event/mens-college-basketball-7/
LOCATION:MT
CATEGORIES:College Sports
END:VEVENT
END:VCALENDAR