BEGIN:VCALENDAR
VERSION:2.0
PRODID:-//Broadway Inn - ECPv6.15.20//NONSGML v1.0//EN
CALSCALE:GREGORIAN
METHOD:PUBLISH
X-ORIGINAL-URL:https://broadwayinnmissoula.com
X-WR-CALDESC:Events for Broadway Inn
REFRESH-INTERVAL;VALUE=DURATION:PT1H
X-Robots-Tag:noindex
X-PUBLISHED-TTL:PT1H
BEGIN:VTIMEZONE
TZID:UTC
BEGIN:STANDARD
TZOFFSETFROM:+0000
TZOFFSETTO:+0000
TZNAME:UTC
DTSTART:20240101T000000
END:STANDARD
END:VTIMEZONE
BEGIN:VEVENT
DTSTART;VALUE=DATE:20250214
DTEND;VALUE=DATE:20250215
DTSTAMP:20260421T114350
CREATED:20250129T203818Z
LAST-MODIFIED:20250129T203818Z
UID:871-1739491200-1739577599@broadwayinnmissoula.com
SUMMARY:Big Sky Documentary Film Festival 2025
DESCRIPTION:Logjam Presents is pleased to welcome the Big Sky Documentary Film Festival back to The Wilma on Friday\, February 14th\, 2025. \nTickets are on sale now and available to purchase online. All Access Passes\, All Screening Passes\, Household Virtual Passes and 5-Film Passes will be available. \nThe annual 10-day event takes place each February in downtown Missoula\, Montana. The upcoming festival will take place February 14-23\, 2025. For more info check out Big Sky Documentary Film Festival 2025.
URL:https://broadwayinnmissoula.com/event/big-sky-documentary-film-festival-2025/
LOCATION:The Wilma\, 131 S Higgins Ave\, Missoula\, MT\, 59802\, United States
END:VEVENT
END:VCALENDAR