BEGIN:VCALENDAR
VERSION:2.0
PRODID:-//Broadway Inn - ECPv6.15.20//NONSGML v1.0//EN
CALSCALE:GREGORIAN
METHOD:PUBLISH
X-ORIGINAL-URL:https://broadwayinnmissoula.com
X-WR-CALDESC:Events for Broadway Inn
REFRESH-INTERVAL;VALUE=DURATION:PT1H
X-Robots-Tag:noindex
X-PUBLISHED-TTL:PT1H
BEGIN:VTIMEZONE
TZID:UTC
BEGIN:STANDARD
TZOFFSETFROM:+0000
TZOFFSETTO:+0000
TZNAME:UTC
DTSTART:20240101T000000
END:STANDARD
END:VTIMEZONE
BEGIN:VEVENT
DTSTART;VALUE=DATE:20250215
DTEND;VALUE=DATE:20250216
DTSTAMP:20260421T113726
CREATED:20250129T203906Z
LAST-MODIFIED:20250129T203906Z
UID:872-1739577600-1739663999@broadwayinnmissoula.com
SUMMARY:Big Sky Documentary Film Festival 2025
DESCRIPTION:Logjam Presents is pleased to welcome the Big Sky Documentary Film Festival back to The Wilma on Saturday\, February 15th\, 2025. \nTickets are on sale now and available to purchase online. All Access Passes\, All Screening Passes\, Household Virtual Passes and 5-Film Passes will be available. \nThe annual 10-day event takes place each February in downtown Missoula\, Montana. The upcoming festival will take place February 14-23\, 2025. For more info check out Big Sky Documentary Film Festival 2025.
URL:https://broadwayinnmissoula.com/event/big-sky-documentary-film-festival-2025-2/
LOCATION:The Wilma\, 131 S Higgins Ave\, Missoula\, MT\, 59802\, United States
END:VEVENT
BEGIN:VEVENT
DTSTART;TZID=UTC:20250215T190000
DTEND;TZID=UTC:20250215T220000
DTSTAMP:20260421T113726
CREATED:20250129T205659Z
LAST-MODIFIED:20250129T205659Z
UID:884-1739646000-1739656800@broadwayinnmissoula.com
SUMMARY:Griz Men's Basketball vs. Weber State
DESCRIPTION:Griz Men’s Basketball vs. Weber State
URL:https://broadwayinnmissoula.com/event/griz-mens-basketball-vs-weber-state/
LOCATION:Adams Event Center\, 32 Campus Dr\, Missoula\, MT\, 59812\, United States
END:VEVENT
END:VCALENDAR