BEGIN:VCALENDAR
VERSION:2.0
PRODID:-//Broadway Inn - ECPv6.15.20//NONSGML v1.0//EN
CALSCALE:GREGORIAN
METHOD:PUBLISH
X-ORIGINAL-URL:https://broadwayinnmissoula.com
X-WR-CALDESC:Events for Broadway Inn
REFRESH-INTERVAL;VALUE=DURATION:PT1H
X-Robots-Tag:noindex
X-PUBLISHED-TTL:PT1H
BEGIN:VTIMEZONE
TZID:UTC
BEGIN:STANDARD
TZOFFSETFROM:+0000
TZOFFSETTO:+0000
TZNAME:UTC
DTSTART:20240101T000000
END:STANDARD
END:VTIMEZONE
BEGIN:VEVENT
DTSTART;TZID=UTC:20250308T200000
DTEND;TZID=UTC:20250308T230000
DTSTAMP:20260423T110857
CREATED:20250218T195502Z
LAST-MODIFIED:20250218T195502Z
UID:894-1741464000-1741474800@broadwayinnmissoula.com
SUMMARY:Pokey LaFarge
DESCRIPTION:Mark your calendars for an unforgettable musical journey! On Saturday\, March 8\, 2025\, the renowned Pokey LaFarge will take the stage at the iconic Top Hat for a live concert performance that promises to captivate and inspire. \nBrought to you by Logjam Presents\, this special evening will showcase Pokey LaFarge’s signature blend of Americana\, blues\, and folk\, creating a timeless sound that’s sure to set the perfect mood. Whether you’re a long-time fan or discovering his music for the first time\, this is a night not to be missed. \nTickets go on sale Friday\, November 22\, 2024\, at 10:00 AM\, and will be available for purchase in person at Logjam Presents Box Offices or online while supplies last. All tickets are general admission standing room only with limited bench seating\, and the show welcomes all ages. \nWhy not turn your concert experience into a Missoula getaway? \nAfter an amazing night of music\, the Broadway Inn offers a cozy and convenient place to unwind. \n\nLooking for hotels near downtown Missoula? We’re just minutes from the Top Hat\, making it easy to keep the good times rolling.\nNeed a spot with a welcoming on-site restaurant? Enjoy a comforting meal and a nightcap without ever leaving the hotel.\nFlying in for the show? We’re also one of the most convenient hotels near the airport in Missoula\, ensuring a smooth\, stress-free stay.\n\nMake the most of your Missoula concert adventure with a stay at the Broadway Inn—where comfort\, convenience\, and great memories go hand in hand.
URL:https://broadwayinnmissoula.com/event/pokey-lafarge/
LOCATION:Top Hat\, 134 W Front St\, Missoula\, MT\, 59802\, United States
END:VEVENT
END:VCALENDAR