BEGIN:VCALENDAR
VERSION:2.0
PRODID:-//Broadway Inn - ECPv6.15.20//NONSGML v1.0//EN
CALSCALE:GREGORIAN
METHOD:PUBLISH
X-ORIGINAL-URL:https://broadwayinnmissoula.com
X-WR-CALDESC:Events for Broadway Inn
REFRESH-INTERVAL;VALUE=DURATION:PT1H
X-Robots-Tag:noindex
X-PUBLISHED-TTL:PT1H
BEGIN:VTIMEZONE
TZID:UTC
BEGIN:STANDARD
TZOFFSETFROM:+0000
TZOFFSETTO:+0000
TZNAME:UTC
DTSTART:20240101T000000
END:STANDARD
END:VTIMEZONE
BEGIN:VEVENT
DTSTART;TZID=UTC:20250314T080000
DTEND;TZID=UTC:20250314T170000
DTSTAMP:20260423T170459
CREATED:20250218T195721Z
LAST-MODIFIED:20250218T195721Z
UID:895-1741939200-1741971600@broadwayinnmissoula.com
SUMMARY:Big Richard
DESCRIPTION:Get ready for a thrilling evening of dynamic live music! On Friday\, March 14\, 2025\, the sensational Big Richard will take the stage at the iconic Wilma for a concert that promises to deliver an electrifying blend of bluegrass\, folk\, and soul-stirring melodies. \nBrought to you by Logjam Presents\, this one-of-a-kind performance will light up downtown Missoula\, offering an incredible opportunity to experience the innovative and captivating sound of Big Richard. Whether you’re a devoted fan or discovering their unique style for the first time\, this show is set to be an unforgettable musical experience. \nTickets go on sale Thursday\, October 17\, 2024\, at 10:00 AM\, and will be available for purchase in person at Logjam Presents Box Offices or online while supplies last. All tickets are general admission\, with a limited amount of seating available on a first-come\, first-served basis. The show welcomes all ages\, so bring your friends and family for a night of amazing live entertainment. \nMake your concert night a Missoula getaway! \nAfter soaking in the magic of Big Richard at The Wilma\, the Broadway Inn offers a warm\, welcoming place to relax and recharge. \n\nSearching for hotels near downtown Missoula? Stay just minutes from The Wilma\, keeping you close to the action and Missoula’s vibrant nightlife.\nNeed a convenient on-site restaurant? Enjoy a delicious meal and a relaxing drink without ever leaving the comfort of the Broadway Inn.\nFlying in for the show? We’re one of the most convenient hotels near the airport in Missoula\, ensuring your visit is smooth and stress-free.
URL:https://broadwayinnmissoula.com/event/big-richard/
LOCATION:The Wilma\, 131 S Higgins Ave\, Missoula\, MT\, 59802\, United States
END:VEVENT
BEGIN:VEVENT
DTSTART;TZID=UTC:20250314T220000
DTEND;TZID=UTC:20250314T233000
DTSTAMP:20260423T170459
CREATED:20250218T195954Z
LAST-MODIFIED:20250218T195954Z
UID:896-1741989600-1741995000@broadwayinnmissoula.com
SUMMARY:Evening Redness Out West
DESCRIPTION:Looking for a night of soulful sounds and vibrant energy in downtown Missoula? On Friday\, March 14\, 2025\, get ready to experience the captivating music of Evening Redness Out West\, with special guests The Alpines\, live at the iconic Top Hat — and the best part? It’s absolutely FREE! \nBrought to you by Groove Solventless and Logjam Presents\, this event is part of the Groove Concert Series\, a fantastic lineup of free shows designed to showcase Montana’s thriving live music scene. The Top Hat will be the place to be as these two incredible acts deliver a night of unforgettable performances\, celebrating community\, creativity\, and great vibes. \nWhy not make a night of it? \nAfter an evening of live music\, the Broadway Inn offers the perfect spot to kick back and relax. \n\nSearching for hotels near downtown Missoula? We’re just minutes from the Top Hat\, keeping you close to all the action and nightlife.\nWant the convenience of an on-site restaurant? Enjoy a satisfying meal and a nightcap without ever leaving the comfort of the hotel.\nFlying in for the show? We’re one of the most convenient hotels near the airport in Missoula\, ensuring your visit is easy and stress-free.\n\nMake the most of your Missoula music adventure with a stay at the Broadway Inn—where comfort\, convenience\, and great memories go hand in hand.
URL:https://broadwayinnmissoula.com/event/evening-redness-out-west/
LOCATION:Top Hat\, 134 W Front St\, Missoula\, MT\, 59802\, United States
END:VEVENT
END:VCALENDAR