BEGIN:VCALENDAR
VERSION:2.0
PRODID:-//Broadway Inn - ECPv6.15.20//NONSGML v1.0//EN
CALSCALE:GREGORIAN
METHOD:PUBLISH
X-WR-CALNAME:Broadway Inn
X-ORIGINAL-URL:https://broadwayinnmissoula.com
X-WR-CALDESC:Events for Broadway Inn
REFRESH-INTERVAL;VALUE=DURATION:PT1H
X-Robots-Tag:noindex
X-PUBLISHED-TTL:PT1H
BEGIN:VTIMEZONE
TZID:UTC
BEGIN:STANDARD
TZOFFSETFROM:+0000
TZOFFSETTO:+0000
TZNAME:UTC
DTSTART:20240101T000000
END:STANDARD
END:VTIMEZONE
BEGIN:VEVENT
DTSTART;TZID=UTC:20250328T190000
DTEND;TZID=UTC:20250328T233000
DTSTAMP:20260423T184242
CREATED:20250221T183142Z
LAST-MODIFIED:20250221T183142Z
UID:902-1743188400-1743204600@broadwayinnmissoula.com
SUMMARY:Dulcé Sloan
DESCRIPTION:Get ready for an evening of side-splitting comedy as Dulcé Sloan takes the stage at The Wilma on Friday\, March 28\, 2025! \nPresented by Logjam Presents\, this highly anticipated performance will showcase Dulcé’s signature blend of sharp wit\, bold humor\, and insightful social commentary. As a standout correspondent on The Daily Show and a rising star in the world of stand-up comedy\, Dulcé is guaranteed to deliver a night filled with laughter and unforgettable moments. \nTickets go on sale Friday\, January 24\, 2025\, at 10:00 AM\, and will be available for purchase in person at Logjam Presents Box Offices or online while supplies last. This is a fully-seated event\, with general admission seating available on a first-come\, first-served basis. All ages are welcome to enjoy this comedy experience! \nMake It a Comedy Weekend in Missoula! \nTurn your night of laughter into a full Missoula getaway with a stay at the Broadway Inn—the perfect place to unwind after the show. \n\nSearching for hotels near downtown Missoula? Stay close to The Wilma and the city’s vibrant entertainment scene.\nNeed a bite before or after the show? Enjoy a delicious meal and drinks at our on-site restaurant.\nTraveling in for the comedy event? We’re one of the most convenient hotels near the airport in Missoula\, ensuring a smooth trip.\n\nExperience the best of Missoula’s entertainment and hospitality with a stay at the Broadway Inn.
URL:https://broadwayinnmissoula.com/event/dulce-sloan/
LOCATION:The Wilma\, 131 S Higgins Ave\, Missoula\, MT\, 59802\, United States
END:VEVENT
BEGIN:VEVENT
DTSTART;TZID=UTC:20250328T220000
DTEND;TZID=UTC:20250328T233000
DTSTAMP:20260423T184242
CREATED:20250221T183854Z
LAST-MODIFIED:20250221T183854Z
UID:903-1743199200-1743204600@broadwayinnmissoula.com
SUMMARY:Foreshadow with Lophiile
DESCRIPTION:Experience an electrifying night of live music as Foreshadow and Lophiile take the stage at The Top Hat on Friday\, March 28\, 2025—and the best part? It’s completely FREE! \nBrought to you by Groove Solventless & Logjam Presents\, this show is part of the Groove Concert Series\, a celebration of Montana’s thriving live music scene. With Foreshadow’s dynamic energy and Lophiile’s genre-blending beats\, this is a performance you won’t want to miss. Whether you’re a dedicated fan or simply looking for a great way to kick off the weekend\, this show is set to deliver an unforgettable night in Downtown Missoula. \nDoors open at 9:30 PM\, and the show starts at 10:15 PM. This event is 21+\, so grab your friends and get ready for a night of incredible live music\, great vibes\, and a fantastic crowd. \nMake It a Music-Filled Weekend in Missoula! \nWhy end the night when you can turn it into a full Missoula experience with a stay at the Broadway Inn? \n\nLooking for hotels near downtown Missoula? Stay just minutes from The Top Hat\, keeping you close to the action.\nWant a meal before the show? Our on-site restaurant offers a convenient spot to grab a bite and drinks.\nTraveling in for the concert? We’re one of the most convenient hotels near the airport in Missoula\, making your trip seamless.\n\nDon’t miss this high-energy\, FREE concert at The Top Hat\, and enhance your experience with a stay at the Broadway Inn—where comfort and convenience come together.
URL:https://broadwayinnmissoula.com/event/foreshadow-with-lophiile/
LOCATION:Top Hat\, 134 W Front St\, Missoula\, MT\, 59802\, United States
CATEGORIES:Concert
END:VEVENT
END:VCALENDAR