BEGIN:VCALENDAR
VERSION:2.0
PRODID:-//Broadway Inn - ECPv6.15.20//NONSGML v1.0//EN
CALSCALE:GREGORIAN
METHOD:PUBLISH
X-WR-CALNAME:Broadway Inn
X-ORIGINAL-URL:https://broadwayinnmissoula.com
X-WR-CALDESC:Events for Broadway Inn
REFRESH-INTERVAL;VALUE=DURATION:PT1H
X-Robots-Tag:noindex
X-PUBLISHED-TTL:PT1H
BEGIN:VTIMEZONE
TZID:UTC
BEGIN:STANDARD
TZOFFSETFROM:+0000
TZOFFSETTO:+0000
TZNAME:UTC
DTSTART:20240101T000000
END:STANDARD
END:VTIMEZONE
BEGIN:VEVENT
DTSTART;VALUE=DATE:20250501
DTEND;VALUE=DATE:20250502
DTSTAMP:20260423T151811
CREATED:20250422T083030Z
LAST-MODIFIED:20250422T083030Z
UID:916-1746057600-1746143999@broadwayinnmissoula.com
SUMMARY:First Friday
DESCRIPTION:Experience Missoula’s vibrant art scene during First Friday. Stroll downtown to discover local galleries\, enjoy live music\, and take advantage of exclusive deals. A must-do for art lovers and locals alike. \n  \nMake your First Friday unforgettable!\nStay at The Broadway Inn and enjoy easy access to all the art\, music\, and food downtown Missoula has to offer. \n  \nMore Info:\nhttps://www.missouladowntown.com/first-friday/
URL:https://broadwayinnmissoula.com/event/first-friday/
LOCATION:Downtown Missoula\, 218 East Main Street\, Ste. C\, Missoula\, MT\, 59802\, United States
END:VEVENT
END:VCALENDAR