BEGIN:VCALENDAR
VERSION:2.0
PRODID:-//Broadway Inn - ECPv6.15.20//NONSGML v1.0//EN
CALSCALE:GREGORIAN
METHOD:PUBLISH
X-WR-CALNAME:Broadway Inn
X-ORIGINAL-URL:https://broadwayinnmissoula.com
X-WR-CALDESC:Events for Broadway Inn
REFRESH-INTERVAL;VALUE=DURATION:PT1H
X-Robots-Tag:noindex
X-PUBLISHED-TTL:PT1H
BEGIN:VTIMEZONE
TZID:UTC
BEGIN:STANDARD
TZOFFSETFROM:+0000
TZOFFSETTO:+0000
TZNAME:UTC
DTSTART:20240101T000000
END:STANDARD
END:VTIMEZONE
BEGIN:VEVENT
DTSTART;TZID=UTC:20250503T120000
DTEND;TZID=UTC:20250504T190000
DTSTAMP:20260421T185124
CREATED:20250502T103958Z
LAST-MODIFIED:20250502T103958Z
UID:928-1746273600-1746385200@broadwayinnmissoula.com
SUMMARY:Garden City Brewfest
DESCRIPTION:Event Overview:\nGet ready for the 30th Annual Garden City Brewfest\, taking place May 3–4\, 2024\, in downtown Missoula! This popular festival is held at Caras Park from 12:00 PM to 7:00 PM on both days and features over 70 craft beers\, ciders\, and seltzers from more than 40 local and regional breweries. Whether you’re a craft beer connoisseur or just looking for a fun day out\, there’s something for everyone. \nEnjoy live music throughout the day\, sample some of the best local brews\, and indulge in delicious food from a variety of food trucks. The festival brings a vibrant atmosphere to the heart of Missoula\, making it the perfect way to spend your weekend. \n  \nWhy Stay with Us:\nThe Broadway Inn Missoula is perfectly located just minutes from Caras Park\, making it the ideal place to stay during the Garden City Brewfest. After enjoying the festival\, you can unwind in the comfort of our spacious rooms or enjoy a delicious meal and refreshing drinks at our on-site restaurant\, The Still Room Bar & Grill. \nOur hotel offers a prime location for festival-goers\, and we make sure that your stay is as enjoyable as the event itself. Whether you’re attending Brewfest for the first time or returning for another year\, you’ll find that we offer the perfect mix of comfort\, convenience\, and great service. \n  \nEvent Highlights:\n\nOver 70 beers\, ciders\, and seltzers on tap\nLive music all day long\nFood trucks offering a variety of local and regional cuisines\nAll ages welcome (21+ to drink)\nVibrant atmosphere with friends\, fun\, and great vibes\n\n  \nBook Your Stay:\nDon’t miss out on the Garden City Brewfest experience! Reserve your room at Broadway Inn Missoula and enjoy the convenience of being just a short walk away from all the festival fun. After a full day of craft beer tastings and live music\, relax and unwind in our cozy rooms. \nBook your stay today and experience the best of Missoula at Broadway Inn – your home base for the Garden City Brewfest!
URL:https://broadwayinnmissoula.com/event/garden-city-brewfest/
LOCATION:Caras Park\, 123 Carousel Dr\, Missoula\, 59802\, United States
END:VEVENT
BEGIN:VEVENT
DTSTART;VALUE=DATE:20250504
DTEND;VALUE=DATE:20250505
DTSTAMP:20260421T185124
CREATED:20250502T161332Z
LAST-MODIFIED:20250502T161332Z
UID:930-1746316800-1746403199@broadwayinnmissoula.com
SUMMARY:Yelawolf | 45 Tour With JT Loux & J. Michael Phillips
DESCRIPTION:From humble beginnings in Gadsden\, Alabama\, to global stardom\, Yelawolf has proven himself to be a versatile and groundbreaking artist. Known for his unique blend of rap\, rock\, and country influences\, Yelawolf has worked with big names like Eminem and Travis Barker\, delivering unforgettable music and performances. \nThe Broadway Inn Missoula is your ideal choice for an unforgettable experience in Missoula. Stay just a short distance from The Wilma\, and enjoy easy access to this exciting event and more.
URL:https://broadwayinnmissoula.com/event/yelawolf-45-tour-with-jt-loux-j-michael-phillips/
LOCATION:The Wilma\, 131 S Higgins Ave\, Missoula\, MT\, 59802\, United States
END:VEVENT
END:VCALENDAR