BEGIN:VCALENDAR
VERSION:2.0
PRODID:-//Broadway Inn - ECPv6.15.20//NONSGML v1.0//EN
CALSCALE:GREGORIAN
METHOD:PUBLISH
X-ORIGINAL-URL:https://broadwayinnmissoula.com
X-WR-CALDESC:Events for Broadway Inn
REFRESH-INTERVAL;VALUE=DURATION:PT1H
X-Robots-Tag:noindex
X-PUBLISHED-TTL:PT1H
BEGIN:VTIMEZONE
TZID:UTC
BEGIN:STANDARD
TZOFFSETFROM:+0000
TZOFFSETTO:+0000
TZNAME:UTC
DTSTART:20240101T000000
END:STANDARD
END:VTIMEZONE
BEGIN:VEVENT
DTSTART;VALUE=DATE:20250507
DTEND;VALUE=DATE:20250508
DTSTAMP:20260421T222553
CREATED:20250502T161433Z
LAST-MODIFIED:20250502T161433Z
UID:931-1746576000-1746662399@broadwayinnmissoula.com
SUMMARY:Victor Wooten & The Wooten Brothers
DESCRIPTION:For over five decades\, The Wooten Brothers have been known for their exceptional musicianship and dynamic stage presence. This tour blends jazz\, funk\, soul\, and R&B in a unique way\, celebrating the legacy of the late Rudy Wooten and showcasing both new and classic compositions. \nWith The Wilma just minutes away from Broadway Inn Missoula\, we offer you easy access to the best live music in town. Relax in comfort after a night of incredible music and stay close to all the excitement.
URL:https://broadwayinnmissoula.com/event/victor-wooten-the-wooten-brothers/
LOCATION:The Wilma\, 131 S Higgins Ave\, Missoula\, MT\, 59802\, United States
END:VEVENT
END:VCALENDAR