BEGIN:VCALENDAR
VERSION:2.0
PRODID:-//Broadway Inn - ECPv6.15.20//NONSGML v1.0//EN
CALSCALE:GREGORIAN
METHOD:PUBLISH
X-ORIGINAL-URL:https://broadwayinnmissoula.com
X-WR-CALDESC:Events for Broadway Inn
REFRESH-INTERVAL;VALUE=DURATION:PT1H
X-Robots-Tag:noindex
X-PUBLISHED-TTL:PT1H
BEGIN:VTIMEZONE
TZID:UTC
BEGIN:STANDARD
TZOFFSETFROM:+0000
TZOFFSETTO:+0000
TZNAME:UTC
DTSTART:20250101T000000
END:STANDARD
END:VTIMEZONE
BEGIN:VEVENT
DTSTART;TZID=UTC:20260424T080000
DTEND;TZID=UTC:20260426T170000
DTSTAMP:20260421T184131
CREATED:20260408T152306Z
LAST-MODIFIED:20260408T152306Z
UID:1168-1777017600-1777222800@broadwayinnmissoula.com
SUMMARY:MISSOULA SPRING THAW HOCKEY TOURNAMENT
DESCRIPTION:The Missoula Spring Thaw Hockey Tournament brings together teams from across the region for a weekend of competitive play and community fun. Designed for novice and intermediate players\, the event includes games\, social activities\, and a lively atmosphere. \nVisitors and participants alike enjoy the welcoming environment and exciting on-ice action. \n  \nBook Your Stay Today\nBook now at Broadway Inn Missoula and stay close to the rink.
URL:https://broadwayinnmissoula.com/event/missoula-spring-thaw-hockey-tournament/
LOCATION:Glacier Ice Rink\, Missoula\, 1101 South Ave W\, Missoula\, Montana\, 59801\, United States
END:VEVENT
END:VCALENDAR