BEGIN:VCALENDAR
VERSION:2.0
PRODID:-//Broadway Inn - ECPv6.15.20//NONSGML v1.0//EN
CALSCALE:GREGORIAN
METHOD:PUBLISH
X-ORIGINAL-URL:https://broadwayinnmissoula.com
X-WR-CALDESC:Events for Broadway Inn
REFRESH-INTERVAL;VALUE=DURATION:PT1H
X-Robots-Tag:noindex
X-PUBLISHED-TTL:PT1H
BEGIN:VTIMEZONE
TZID:UTC
BEGIN:STANDARD
TZOFFSETFROM:+0000
TZOFFSETTO:+0000
TZNAME:UTC
DTSTART:20250101T000000
END:STANDARD
END:VTIMEZONE
BEGIN:VEVENT
DTSTART;VALUE=DATE:20260428
DTEND;VALUE=DATE:20260429
DTSTAMP:20260423T091520
CREATED:20260408T152358Z
LAST-MODIFIED:20260408T152358Z
UID:1170-1777334400-1777420799@broadwayinnmissoula.com
SUMMARY:TECH N9NE & E-40 WITH KING ISO
DESCRIPTION:Tech N9ne and E-40 bring an explosive night of hip hop to Missoula. With decades of influence and chart-topping success\, both artists are known for high-energy performances and loyal fanbases. \nThis show promises a powerful mix of classic hits and new material\, making it one of the biggest hip hop events of the season. \n  \nBook Your Stay Today\nBook now at Broadway Inn Missoula and stay steps from The Wilma.
URL:https://broadwayinnmissoula.com/event/tech-n9ne-e-40-with-king-iso/
LOCATION:The Wilma\, 131 S Higgins Ave\, Missoula\, MT\, 59802\, United States
END:VEVENT
END:VCALENDAR