BEGIN:VCALENDAR
VERSION:2.0
PRODID:-//Broadway Inn - ECPv6.15.20//NONSGML v1.0//EN
CALSCALE:GREGORIAN
METHOD:PUBLISH
X-WR-CALNAME:Broadway Inn
X-ORIGINAL-URL:https://broadwayinnmissoula.com
X-WR-CALDESC:Events for Broadway Inn
REFRESH-INTERVAL;VALUE=DURATION:PT1H
X-Robots-Tag:noindex
X-PUBLISHED-TTL:PT1H
BEGIN:VTIMEZONE
TZID:UTC
BEGIN:STANDARD
TZOFFSETFROM:+0000
TZOFFSETTO:+0000
TZNAME:UTC
DTSTART:20240101T000000
END:STANDARD
END:VTIMEZONE
BEGIN:VEVENT
DTSTART;VALUE=DATE:20250417
DTEND;VALUE=DATE:20250419
DTSTAMP:20260421T171332
CREATED:20250422T091413Z
LAST-MODIFIED:20250422T091444Z
UID:925-1744848000-1745020799@broadwayinnmissoula.com
SUMMARY:The Backseat Lovers with Special Guest Jonny’s Day Out
DESCRIPTION:Indie rock band The Backseat Lovers bring new music and fan favorites from their sophomore album Waiting to Spill. With over 800 million global streams and a sold-out 2023 World Tour\, don’t miss this electrifying show! \n  \nCatch the concert\, then unwind at The Broadway Inn!\nBook your stay just minutes from The Wilma and enjoy easy access to all the action\, comfortable rooms\, and top-notch amenities. \n  \nMore Info:\nhttps://logjampresents.com/event/the-backseat-lovers-night-1-67848/
URL:https://broadwayinnmissoula.com/event/the-backseat-lovers-with-special-guest-jonnys-day-out/
LOCATION:The Wilma\, 131 S Higgins Ave\, Missoula\, MT\, 59802\, United States
END:VEVENT
BEGIN:VEVENT
DTSTART;VALUE=DATE:20250418
DTEND;VALUE=DATE:20250419
DTSTAMP:20260421T171332
CREATED:20250422T091652Z
LAST-MODIFIED:20250422T091652Z
UID:926-1744934400-1745020799@broadwayinnmissoula.com
SUMMARY:AJ Lee & Blue Summit
DESCRIPTION:Groove Concert Series at The Top Hat\nAward-winning AJ Lee & Blue Summit combine energetic bluegrass and roots music. This dynamic band will leave you mesmerized with their charm and musical prowess. \n  \nDon’t miss a beat—stay close to the action!\nBook your room at The Broadway Inn and make your night even better with a relaxing stay near The Top Hat. \n  \nMore Info:\nhttps://logjampresents.com/event/aj-lee-blue-summit-66926/
URL:https://broadwayinnmissoula.com/event/aj-lee-blue-summit/
LOCATION:Top Hat\, 134 W Front St\, Missoula\, MT\, 59802\, United States
END:VEVENT
BEGIN:VEVENT
DTSTART;VALUE=DATE:20250426
DTEND;VALUE=DATE:20250427
DTSTAMP:20260421T171332
CREATED:20250422T081055Z
LAST-MODIFIED:20250422T082418Z
UID:911-1745625600-1745711999@broadwayinnmissoula.com
SUMMARY:Left on Tenth
DESCRIPTION:Indie/funk rock band Left on Tenth\, hailing from Portland\, OR\, delivers high-energy shows and award-winning music\, including their latest album Sunup\, which won Best Indie/Alternative Album at the PNW Music Awards. \n  \nStay close to Missoula’s hottest live music scene!\nBook your stay at The Broadway Inn and enjoy quick access to The Top Hat\, where Left on Tenth will light up the stage. \n  \nMore Info:\nhttps://logjampresents.com/event/left-on-tenth-67278/\n \n 
URL:https://broadwayinnmissoula.com/event/left-on-tenth/
LOCATION:Top Hat\, 134 W Front St\, Missoula\, MT\, 59802\, United States
END:VEVENT
BEGIN:VEVENT
DTSTART;VALUE=DATE:20250426
DTEND;VALUE=DATE:20250427
DTSTAMP:20260421T171332
CREATED:20250422T081757Z
LAST-MODIFIED:20250422T082405Z
UID:913-1745625600-1745711999@broadwayinnmissoula.com
SUMMARY:Jim Messina & The Road Runners
DESCRIPTION:Legendary musician Jim Messina brings his classic hits from Loggins & Messina and a new live album with his band\, The Road Runners. A must-see for classic rock fans! \n  \nFeel the classic rock vibes\, then relax in comfort!\nBook your stay at The Broadway Inn\, just minutes away from The Wilma\, where Jim Messina & The Road Runners will take you on a musical journey. \n  \nMore Info:\nhttps://logjampresents.com/event/jim-messina-the-road-runners-67518/ \n 
URL:https://broadwayinnmissoula.com/event/jim-messina-the-road-runners/
LOCATION:The Wilma\, 131 S Higgins Ave\, Missoula\, MT\, 59802\, United States
END:VEVENT
BEGIN:VEVENT
DTSTART;VALUE=DATE:20250429
DTEND;VALUE=DATE:20250430
DTSTAMP:20260421T171332
CREATED:20250422T082246Z
LAST-MODIFIED:20250422T082246Z
UID:914-1745884800-1745971199@broadwayinnmissoula.com
SUMMARY:Bruce Cockburn
DESCRIPTION:Award-winning poet and guitarist Bruce Cockburn performs his powerful new album O Sun O Moon alongside classics like “Lovers in a Dangerous Time” in a night of unforgettable music. \n  \nExperience legendary music\, then unwind at The Broadway Inn!\nBook your stay just a short walk from The Wilma and enjoy a peaceful retreat after an inspiring concert. The Broadway Inn features an on-site casino and restaurant for maximum convenience. \n  \nMore Info:\nhttps://logjampresents.com/event/bruce-cockburn-64968/
URL:https://broadwayinnmissoula.com/event/bruce-cockburn/
LOCATION:The Wilma\, 131 S Higgins Ave\, Missoula\, MT\, 59802\, United States
END:VEVENT
BEGIN:VEVENT
DTSTART;VALUE=DATE:20250430
DTEND;VALUE=DATE:20250501
DTSTAMP:20260421T171332
CREATED:20250422T082654Z
LAST-MODIFIED:20250422T082654Z
UID:915-1745971200-1746057599@broadwayinnmissoula.com
SUMMARY:The Martin Sexton Abbey Road Show
DESCRIPTION:Martin Sexton puts his signature spin on Abbey Road in this live show\, blending his soulful voice and inventive guitar work with a set of original songs. Don’t miss this once-in-a-lifetime musical experience! \n  \nJoin Martin Sexton for an unforgettable night\, then kick back at The Broadway Inn!\nBook your stay just steps from The Wilma and enjoy comfort after an electrifying performance. Enjoy dinner and drinks at our on-site restaurant\, The Still Room\, before or after the show. \n  \nMore Info:\nhttps://logjampresents.com/event/the-martin-sexton-abbey-road-show-66112/ \n 
URL:https://broadwayinnmissoula.com/event/the-martin-sexton-abbey-road-show/
LOCATION:The Wilma\, 131 S Higgins Ave\, Missoula\, MT\, 59802\, United States
END:VEVENT
END:VCALENDAR