BEGIN:VCALENDAR
VERSION:2.0
PRODID:-//Broadway Inn - ECPv6.15.20//NONSGML v1.0//EN
CALSCALE:GREGORIAN
METHOD:PUBLISH
X-ORIGINAL-URL:https://broadwayinnmissoula.com
X-WR-CALDESC:Events for Broadway Inn
REFRESH-INTERVAL;VALUE=DURATION:PT1H
X-Robots-Tag:noindex
X-PUBLISHED-TTL:PT1H
BEGIN:VTIMEZONE
TZID:UTC
BEGIN:STANDARD
TZOFFSETFROM:+0000
TZOFFSETTO:+0000
TZNAME:UTC
DTSTART:20250101T000000
END:STANDARD
END:VTIMEZONE
BEGIN:VEVENT
DTSTART;VALUE=DATE:20260110
DTEND;VALUE=DATE:20260111
DTSTAMP:20260421T184757
CREATED:20260107T130025Z
LAST-MODIFIED:20260107T130025Z
UID:1091-1768003200-1768089599@broadwayinnmissoula.com
SUMMARY:MISSOULA WEDDING FAIR
DESCRIPTION:The Missoula Wedding Fair is the largest and most anticipated wedding event in Western Montana\, drawing brides\, grooms\, and wedding parties from around the region. Explore dozens of vendors\, fashion shows\, tastings\, giveaways\, and everything you need to plan your big day in one place. \n  \nBook Your Stay Today\nBroadway Inn Missoula is the perfect stay for out-of-town attendees\, offering great rates and convenient access to the venue and downtown Missoula.
URL:https://broadwayinnmissoula.com/event/missoula-wedding-fair/
LOCATION:Hilton Garden Inn Missoula\, 3720 N Reserve St\, Missoula\, MT\, 59808\, United States
END:VEVENT
BEGIN:VEVENT
DTSTART;VALUE=DATE:20260117
DTEND;VALUE=DATE:20260118
DTSTAMP:20260421T184757
CREATED:20260107T130200Z
LAST-MODIFIED:20260107T130200Z
UID:1094-1768608000-1768694399@broadwayinnmissoula.com
SUMMARY:TANK & THE BANGAS
DESCRIPTION:Nationally acclaimed for their genre-bending mix of soul\, funk\, and hip-hop\, Tank & The Bangas light up the Top Hat with their electric live performance. Known for their NPR Tiny Desk win and festival energy\, this show is sure to draw fans from across Montana. \n  \nBook Your Stay Today\nMake Broadway Inn Missoula your base for a night of music\, food\, and fun in downtown Missoula.
URL:https://broadwayinnmissoula.com/event/tank-the-bangas/
LOCATION:Top Hat\, 134 W Front St\, Missoula\, MT\, 59802\, United States
END:VEVENT
BEGIN:VEVENT
DTSTART;VALUE=DATE:20260117
DTEND;VALUE=DATE:20260118
DTSTAMP:20260421T184757
CREATED:20260107T130340Z
LAST-MODIFIED:20260107T130340Z
UID:1095-1768608000-1768694399@broadwayinnmissoula.com
SUMMARY:YEEDM | COUNTRY EDM TAKEOVER
DESCRIPTION:Get ready for a boot-stompin’ beat drop! YEEDM blends country party energy with EDM production for a one-of-a-kind concert event that unites fans of both genres. Expect cowboy hats\, bass drops\, and a high-energy crowd. \n  \nBook Your Stay Today\nStay at Broadway Inn Missoula for walkable access to the Top Hat and a comfortable night’s rest after the show.
URL:https://broadwayinnmissoula.com/event/yeedm-country-edm-takeover/
LOCATION:Top Hat\, 134 W Front St\, Missoula\, MT\, 59802\, United States
END:VEVENT
BEGIN:VEVENT
DTSTART;VALUE=DATE:20260122
DTEND;VALUE=DATE:20260123
DTSTAMP:20260421T184757
CREATED:20260107T130637Z
LAST-MODIFIED:20260107T130637Z
UID:1097-1769040000-1769126399@broadwayinnmissoula.com
SUMMARY:MONTANA GRIZZLIES MEN’S BASKETBALL VS WEBER STATE
DESCRIPTION:Griz fans from across the state will pack Dahlberg Arena for this Big Sky rivalry game against Weber State. With a roaring crowd\, top talent\, and regional bragging rights on the line\, this is one of January’s biggest sports draws. \n  \nBook Your Stay Today\nMake it a full Missoula weekend with a stay at Broadway Inn\, close to the court\, downtown\, and local favorites.
URL:https://broadwayinnmissoula.com/event/montana-grizzlies-mens-basketball-vs-weber-state/
LOCATION:Dahlberg Arena\, University of Montana\, Missoula\, MT\, 59812\, United States
END:VEVENT
BEGIN:VEVENT
DTSTART;VALUE=DATE:20260123
DTEND;VALUE=DATE:20260124
DTSTAMP:20260421T184757
CREATED:20260107T130906Z
LAST-MODIFIED:20260107T130906Z
UID:1099-1769126400-1769212799@broadwayinnmissoula.com
SUMMARY:ARC’TERYX BACKCOUNTRY SKIING FILM FESTIVAL
DESCRIPTION:Outdoor lovers\, skiers\, and snowboarders won’t want to miss this one-night celebration of human-powered adventure. Featuring award-winning films\, giveaways\, and local winter sports culture\, this annual event draws a regional crowd ready to be inspired. \n  \nBook Your Stay Today\nBroadway Inn Missoula is the perfect place to warm up and unwind after a night of film and fun.
URL:https://broadwayinnmissoula.com/event/arcteryx-backcountry-skiing-film-festival/
LOCATION:The Wilma\, 131 S Higgins Ave\, Missoula\, MT\, 59802\, United States
END:VEVENT
BEGIN:VEVENT
DTSTART;VALUE=DATE:20260124
DTEND;VALUE=DATE:20260125
DTSTAMP:20260421T184757
CREATED:20260107T131133Z
LAST-MODIFIED:20260107T131133Z
UID:1100-1769212800-1769299199@broadwayinnmissoula.com
SUMMARY:MONTANA GRIZZLIES MEN’S BASKETBALL VS IDAHO STATE
DESCRIPTION:The Grizzlies take on Idaho State in another exciting Big Sky showdown. Whether you’re a die-hard fan or just catching a game with friends\, this home matchup promises high energy and big plays. \n  \nBook Your Stay Today\nStay at Broadway Inn Missoula and enjoy great rates\, comfortable rooms\, and quick access to the game.
URL:https://broadwayinnmissoula.com/event/montana-grizzlies-mens-basketball-vs-idaho-state/
LOCATION:Dahlberg Arena\, University of Montana\, Missoula\, MT\, 59812\, United States
END:VEVENT
BEGIN:VEVENT
DTSTART;VALUE=DATE:20260128
DTEND;VALUE=DATE:20260129
DTSTAMP:20260421T184757
CREATED:20260107T131309Z
LAST-MODIFIED:20260107T131309Z
UID:1101-1769558400-1769644799@broadwayinnmissoula.com
SUMMARY:KITCHEN DWELLERS (NIGHT 1)
DESCRIPTION:Beloved Bozeman-based bluegrass jam band Kitchen Dwellers return to Missoula for Night 1 of their Wilma run. With foot-stomping rhythms\, incredible instrumentation\, and a loyal Montana fanbase\, this is a show that draws in crowds from far and wide. \n  \nBook Your Stay Today\nBook your stay at Broadway Inn Missoula and be close to the music\, nightlife\, and late-night eats.
URL:https://broadwayinnmissoula.com/event/kitchen-dwellers-night-1-4/
LOCATION:The Wilma\, 131 S Higgins Ave\, Missoula\, MT\, 59802\, United States
END:VEVENT
BEGIN:VEVENT
DTSTART;VALUE=DATE:20260131
DTEND;VALUE=DATE:20260201
DTSTAMP:20260421T184757
CREATED:20260107T131921Z
LAST-MODIFIED:20260107T131921Z
UID:1102-1769817600-1769903999@broadwayinnmissoula.com
SUMMARY:ALEX KAUFMAN LIVE
DESCRIPTION:Nationally touring singer-songwriter Alex Kaufman brings his raw acoustic storytelling and powerful lyrics to the intimate VFW stage. It’s the perfect night for fans of folk\, Americana\, and heartfelt live music. \n  \nBook Your Stay Today\nBroadway Inn Missoula is just minutes from the VFW and makes for a warm\, affordable place to stay after the show.
URL:https://broadwayinnmissoula.com/event/alex-kaufman-live/
LOCATION:The VFW\, 245 West Main Street\, Missoula\, MT\, 59802\, United States
END:VEVENT
BEGIN:VEVENT
DTSTART;VALUE=DATE:20260131
DTEND;VALUE=DATE:20260201
DTSTAMP:20260421T184757
CREATED:20260107T132142Z
LAST-MODIFIED:20260107T132142Z
UID:1104-1769817600-1769903999@broadwayinnmissoula.com
SUMMARY:FIRST FRIDAY MISSOULA
DESCRIPTION:Missoula’s monthly First Friday art walk brings out the best of downtown with live music\, open galleries\, local food\, and maker events. It’s a festive\, family-friendly tradition that draws people from neighboring towns for a night on the town. \n  \nBook Your Stay Today\nStay steps from the heart of the action at Broadway Inn Missoula\, your ideal downtown home base.
URL:https://broadwayinnmissoula.com/event/first-friday-missoula/
LOCATION:Downtown Missoula\, 218 East Main Street\, Ste. C\, Missoula\, MT\, 59802\, United States
END:VEVENT
BEGIN:VEVENT
DTSTART;VALUE=DATE:20260131
DTEND;VALUE=DATE:20260201
DTSTAMP:20260421T184757
CREATED:20260107T132342Z
LAST-MODIFIED:20260107T132342Z
UID:1105-1769817600-1769903999@broadwayinnmissoula.com
SUMMARY:MONTANA GRIZZLIES MEN’S BASKETBALL VS MONTANA STATE
DESCRIPTION:The Brawl of the Wild comes to the court as the Grizzlies face off against archrival Montana State. This rivalry game is one of the biggest sporting events in Montana and draws fans from across the state for a packed house and fierce competition. \n  \nBook Your Stay Today\nMake a full weekend of it with a stay at Broadway Inn Missoula. Be sure to book early for this high-demand game.
URL:https://broadwayinnmissoula.com/event/montana-grizzlies-mens-basketball-vs-montana-state/
LOCATION:Dahlberg Arena\, University of Montana\, Missoula\, MT\, 59812\, United States
END:VEVENT
END:VCALENDAR